BEGIN:VCALENDAR
VERSION:2.0
PRODID:-//hacksw/handcal//NONSGML v2.0//EN
CALSCALE:GREGORIAN
BEGIN:VEVENT
LOCATION: Sheraton Midwest City Hotel at the Reed Conference Center 5750 Will Rogers Road Midwest City OK 73110
DTSTART;TZID="US/Central":20181204T080000
DTEND;TZID="US/Central":20181204T170000
UID:69ea40479283f
DTSTAMP:20260423T155239
DESCRIPTION:Oklahoma Digital Government Summit 2018\n\nSheraton Midwest City Hotel at the Reed Conference Center\n5750 Will Rogers Road\nMidwest City\, OK 73110\nwww.sheratonmidwestcity.com\n\nCheck our website for the most up to date information for speakers and agenda:\nhttp://cms.erepublic.com/common/dynamic_modules/pass_through/85576\n\nQuestions? Contact us!\nLee Vang\nGovernment Technology\n(800) 940-6039 ext. 1407\nlvang@govtech.com\n
SUMMARY:Oklahoma Digital Government Summit 2018
URL;VALUE=URI:https://cms.erepublic.com/common/dynamic_modules/pass_through/85576
X-ALT-DESC;FMTTYPE=text/html:<p>Oklahoma Digital Government Summit 2018<br /><br />Sheraton Midwest City Hotel at the Reed Conference Center<br />5750 Will Rogers Road<br />Midwest City, OK 73110<br /><a href="http://www.sheratonmidwestcity.com">www.sheratonmidwestcity.com</a><br /><br />Check our website for the most up to date information for speakers and agenda:<br /><a href="http://cms.erepublic.com/common/dynamic_modules/pass_through/85576">http://cms.erepublic.com/common/dynamic_modules/pass_through/85576</a><br /><br />Questions? Contact us!<br />Lee Vang<br />Government Technology<br />(800) 940-6039 ext. 1407<br /><a href="mailto:lvang@govtech.com">lvang@govtech.com</a></p>
X-MICROSOFT-CDO-BUSYSTATUS:WORKINGELSEWHERE
X-MICROSOFT-CDO-IMPORTANCE:1
X-MICROSOFT-DISALLOW-COUNTER:FALSE
X-MS-OLK-AUTOFILLLOCATION:FALSE
X-MS-OLK-CONFTYPE:0
BEGIN:VALARM
TRIGGER:-PT15M
ACTION:DISPLAY
DESCRIPTION:Reminder
END:VALARM
END:VEVENT
END:VCALENDAR