BEGIN:VCALENDAR
VERSION:2.0
PRODID:-//hacksw/handcal//NONSGML v2.0//EN
CALSCALE:GREGORIAN
BEGIN:VEVENT
LOCATION: Ohio Union 1739 North High Street Columbus OH 43210
DTSTART;TZID="US/Eastern":20181030T080000
DTEND;TZID="US/Eastern":20181031T120000
UID:69ece827dbe53
DTSTAMP:20260425T161327
DESCRIPTION:Ohio Digital Government Summit 2018\n\nOhio Union 1739 North High Street\nColumbus\, OH 43210\nwww.ohiounion.osu.edu\n\nCheck our website for the most up to date information for speakers and agenda:\nhttp://cms.erepublic.com/common/dynamic_modules/pass_through/85575\n\nQuestions? Contact us!\nJeremy Smith\nGovernment Technology\n(800) 940-6039 ext. 1402\njsmith@govtech.com\n
SUMMARY:Ohio Digital Government Summit 2018
URL;VALUE=URI:https://cms.erepublic.com/common/dynamic_modules/pass_through/85575
X-ALT-DESC;FMTTYPE=text/html:<p>Ohio Digital Government Summit 2018</p><p>&nbsp;</p><p>Ohio Union 1739 North High Street</p><p>Columbus, OH 43210</p><p>www.ohiounion.osu.edu</p><p>&nbsp;</p><p>Check our website for the most up to date information for speakers and agenda:</p><p>http://cms.erepublic.com/common/dynamic_modules/pass_through/85575</p><p>&nbsp;</p><p>Questions? Contact us!</p><p>Jeremy Smith</p><p>Government Technology</p><p>(800) 940-6039 ext. 1402</p><p><a href="mailto:jsmith@govtech.com">jsmith@govtech.com</a></p>
X-MICROSOFT-CDO-BUSYSTATUS:WORKINGELSEWHERE
X-MICROSOFT-CDO-IMPORTANCE:1
X-MICROSOFT-DISALLOW-COUNTER:FALSE
X-MS-OLK-AUTOFILLLOCATION:FALSE
X-MS-OLK-CONFTYPE:0
BEGIN:VALARM
TRIGGER:-PT15M
ACTION:DISPLAY
DESCRIPTION:Reminder
END:VALARM
END:VEVENT
END:VCALENDAR