BEGIN:VCALENDAR
VERSION:2.0
PRODID:-//hacksw/handcal//NONSGML v2.0//EN
CALSCALE:GREGORIAN
BEGIN:VEVENT
LOCATION: Desert Willow Conference Center 4340 East Cotton Center Boulevard Phoenix AZ 85040
DTSTART;TZID="US/Pacific":20161005T080000
DTEND;TZID="US/Pacific":20161005T160000
UID:69e4d052dd4b3
DTSTAMP:20260419T125338
DESCRIPTION:Arizona CIO/CTO Forum 2016\n\nDesert Willow Conference Center\n4340 East Cotton Center Boulevard\n\nPhoenix\, AZ 85040\n\nhttp://www.centerdigitaled.com/events/Arizona-CIO-CTO-Forum.html#/#venue\n\nCheck our website for the most up to date information for speakers and agenda:\nhttp://www.centerdigitaled.com/events/Arizona-CIO-CTO-Forum.html\n\n\nQuestions? Contact us!\nJoyce Ebuenga\nCenter for Digital Education\n(800) 940-6039 ext. 1399\njebuenga@centerdigitaled.com\n
SUMMARY:Arizona CIO/CTO Forum 2016
URL;VALUE=URI:https://cms.erepublic.com/common/dynamic_modules/pass_through/7549
X-ALT-DESC;FMTTYPE=text/html:<p>Arizona CIO/CTO Forum 2016</p><p>&nbsp;</p><p>Desert Willow Conference Center</p><p>4340 East Cotton Center Boulevard<br /><br />Phoenix, AZ 85040<br /><br />http://www.centerdigitaled.com/events/Arizona-CIO-CTO-Forum.html#/#venue</p><p>&nbsp;</p><p>Check our website for the most up to date information for speakers and agenda:</p><p><a href="http://www.centerdigitaled.com/events/Arizona-CIO-CTO-Forum.html">http://www.centerdigitaled.com/events/Arizona-CIO-CTO-Forum.html<br /><br /><br /></a>Questions? Contact us!</p><p><strong>Joyce Ebuenga</strong></p><p>Center for Digital Education</p><p>(800) 940-6039 ext. 1399</p><p><a href="mailto:jebuenga@centerdigitaled.com">jebuenga@centerdigitaled.com</a>&nbsp;</p>
X-MICROSOFT-CDO-BUSYSTATUS:WORKINGELSEWHERE
X-MICROSOFT-CDO-IMPORTANCE:1
X-MICROSOFT-DISALLOW-COUNTER:FALSE
X-MS-OLK-AUTOFILLLOCATION:FALSE
X-MS-OLK-CONFTYPE:0
BEGIN:VALARM
TRIGGER:-PT15M
ACTION:DISPLAY
DESCRIPTION:Reminder
END:VALARM
END:VEVENT
END:VCALENDAR