BEGIN:VCALENDAR
VERSION:2.0
PRODID:-//hacksw/handcal//NONSGML v2.0//EN
CALSCALE:GREGORIAN
BEGIN:VEVENT
LOCATION: Hyatt Regency Phoenix 122 North Second Street Phoenix AZ 85004
DTSTART;TZID="US/Mountain no DST":20160510T080000
DTEND;TZID="US/Mountain no DST":20160511T170000
UID:69e8f8411f923
DTSTAMP:20260422T163305
DESCRIPTION:Arizona Digital Government Summit 2016\n\nHyatt Regency Phoenix 122 North Second Street\nPhoenix\, AZ 85004\nwww.phoenix.hyatt.com\n\nCheck our website for the most up to date information for speakers and agenda:\nhttp://cms.erepublic.com/common/dynamic_modules/pass_through/1580\n\nQuestions? Contact us!\nHarley Ebuenga\nGovernment Technology\n(800) 917-7732 ext. 1410\nhebuenga@erepublic.com\n
SUMMARY:Arizona Digital Government Summit 2016
URL;VALUE=URI:https://cms.erepublic.com/common/dynamic_modules/pass_through/1580
X-ALT-DESC;FMTTYPE=text/html:<p>Arizona Digital Government Summit 2016</p><p>&nbsp;</p><p>Hyatt Regency Phoenix 122 North Second Street</p><p>Phoenix, AZ 85004</p><p>www.phoenix.hyatt.com</p><p>&nbsp;</p><p>Check our website for the most up to date information for speakers and agenda:</p><p>http://cms.erepublic.com/common/dynamic_modules/pass_through/1580</p><p>&nbsp;</p><p>Questions? Contact us!</p><p>Harley Ebuenga</p><p>Government Technology</p><p>(800) 917-7732 ext. 1410</p><p><a href="mailto:hebuenga@erepublic.com">hebuenga@erepublic.com</a></p>
X-MICROSOFT-CDO-BUSYSTATUS:WORKINGELSEWHERE
X-MICROSOFT-CDO-IMPORTANCE:1
X-MICROSOFT-DISALLOW-COUNTER:FALSE
X-MS-OLK-AUTOFILLLOCATION:FALSE
X-MS-OLK-CONFTYPE:0
BEGIN:VALARM
TRIGGER:-PT15M
ACTION:DISPLAY
DESCRIPTION:Reminder
END:VALARM
END:VEVENT
END:VCALENDAR