BEGIN:VCALENDAR
VERSION:2.0
PRODID:-//hacksw/handcal//NONSGML v2.0//EN
CALSCALE:GREGORIAN
BEGIN:VEVENT
LOCATION: Omaha State Office Building 1313 Farnam Street Omaha NE 68102
DTSTART;TZID="US/Central":20260819T080000
DTEND;TZID="US/Central":20260819T163000
UID:69e4cf5b9bcac
DTSTAMP:20260419T124931
DESCRIPTION:Nebraska Data &amp\; AI Summit 2026\nLocation:\nOmaha State Office Building\n1313 Farnam Street\nOmaha\, NE 68102\nCheck our website for the most up to date information for speakers and agenda: https://cms.erepublic.com/common/dynamic_modules/pass_through/144369\nQuestions? Contact us!\nAmanda Wallace\nGovernment Technology\n916-932-1300 ext. 1315\nawallace@govtech.com &lt\;mailto:awallace@govtech.com&gt\;\n
SUMMARY:Nebraska Data & AI Summit 2026
URL;VALUE=URI:https://cms.erepublic.com/common/dynamic_modules/pass_through/144369
X-ALT-DESC;FMTTYPE=text/html:<p>Nebraska Data &amp; AI Summit 2026</p><p>Location:<br />Omaha State Office Building<br />1313 Farnam Street<br />Omaha, NE 68102</p><p>Check our website for the most up to date information for speakers and agenda: https://cms.erepublic.com/common/dynamic_modules/pass_through/144369</p><p>Questions? Contact us!<br />Amanda Wallace<br />Government Technology<br />916-932-1300 ext. 1315<br />awallace@govtech.com &lt;mailto:awallace@govtech.com&gt;</p>
X-MICROSOFT-CDO-BUSYSTATUS:WORKINGELSEWHERE
X-MICROSOFT-CDO-IMPORTANCE:1
X-MICROSOFT-DISALLOW-COUNTER:FALSE
X-MS-OLK-AUTOFILLLOCATION:FALSE
X-MS-OLK-CONFTYPE:0
BEGIN:VALARM
TRIGGER:-PT15M
ACTION:DISPLAY
DESCRIPTION:Reminder
END:VALARM
END:VEVENT
END:VCALENDAR