BEGIN:VCALENDAR
VERSION:2.0
PRODID:-//hacksw/handcal//NONSGML v2.0//EN
CALSCALE:GREGORIAN
BEGIN:VEVENT
LOCATION: Caribe Royale Orlando 8101 World Center Drive Orlando FL 32821
DTSTART;TZID="US/Eastern":20260621T180000
DTEND;TZID="US/Eastern":20260624T120000
UID:69ea12ae47552
DTSTAMP:20260423T123806
DESCRIPTION:ISAC Annual Summit 2026\nLocation:\nCaribe Royale Orlando\n8101 World Center Drive\nOrlando\, FL 32821\nCheck our website for the most up to date information for speakers and agenda: https://cms.erepublic.com/common/dynamic_modules/pass_through/144359\nQuestions? Contact us!\nBradford Loebs\nGovernment Technology\n916-932-1300 ext. 1409\nbloebs@govtech.com\n\n
SUMMARY:ISAC Annual Summit 2026
URL;VALUE=URI:https://cms.erepublic.com/common/dynamic_modules/pass_through/144359
X-ALT-DESC;FMTTYPE=text/html:<p>ISAC Annual Summit 2026</p><p>Location:<br />Caribe Royale Orlando<br />8101 World Center Drive<br />Orlando, FL 32821</p><p>Check our website for the most up to date information for speakers and agenda: https://cms.erepublic.com/common/dynamic_modules/pass_through/144359</p><p>Questions? Contact us!<br />Bradford Loebs<br />Government Technology<br />916-932-1300 ext. 1409<br />bloebs@govtech.com</p><p>&nbsp;</p>
X-MICROSOFT-CDO-BUSYSTATUS:WORKINGELSEWHERE
X-MICROSOFT-CDO-IMPORTANCE:1
X-MICROSOFT-DISALLOW-COUNTER:FALSE
X-MS-OLK-AUTOFILLLOCATION:FALSE
X-MS-OLK-CONFTYPE:0
BEGIN:VALARM
TRIGGER:-PT15M
ACTION:DISPLAY
DESCRIPTION:Reminder
END:VALARM
END:VEVENT
END:VCALENDAR