BEGIN:VCALENDAR
VERSION:2.0
PRODID:-//hacksw/handcal//NONSGML v2.0//EN
CALSCALE:GREGORIAN
BEGIN:VEVENT
LOCATION: Embassy Suites by Hilton Lincoln 1040 P Street Lincoln NE 68508
DTSTART;TZID="US/Central":20260506T080000
DTEND;TZID="US/Central":20260506T163000
UID:69eb7e9335454
DTSTAMP:20260424T143043
DESCRIPTION:Nebraska IT Leadership Forum 2026\nLocation:\nEmbassy Suites by Hilton Lincoln\n1040 P Street\nLincoln\, NE 68508\nCheck our website for the most up to date information for speakers and agenda: https://cms.erepublic.com/common/dynamic_modules/pass_through/144153\nQuestions? Contact us!\nAmanda Wallace\nGovernment Technology\n916-932-1300 ext. 1315\nawallace@govtech.com &lt\;mailto:awallace@govtech.com&gt\;\n
SUMMARY:Nebraska IT Leadership Forum 2026
URL;VALUE=URI:https://cms.erepublic.com/common/dynamic_modules/pass_through/144153
X-ALT-DESC;FMTTYPE=text/html:<p>Nebraska IT Leadership Forum 2026</p><p>Location:<br />Embassy Suites by Hilton Lincoln<br />1040 P Street<br />Lincoln, NE 68508</p><p>Check our website for the most up to date information for speakers and agenda: https://cms.erepublic.com/common/dynamic_modules/pass_through/144153</p><p>Questions? Contact us!<br />Amanda Wallace<br />Government Technology<br />916-932-1300 ext. 1315<br />awallace@govtech.com &lt;mailto:awallace@govtech.com&gt;</p>
X-MICROSOFT-CDO-BUSYSTATUS:WORKINGELSEWHERE
X-MICROSOFT-CDO-IMPORTANCE:1
X-MICROSOFT-DISALLOW-COUNTER:FALSE
X-MS-OLK-AUTOFILLLOCATION:FALSE
X-MS-OLK-CONFTYPE:0
BEGIN:VALARM
TRIGGER:-PT15M
ACTION:DISPLAY
DESCRIPTION:Reminder
END:VALARM
END:VEVENT
END:VCALENDAR