BEGIN:VCALENDAR
VERSION:2.0
PRODID:-//hacksw/handcal//NONSGML v2.0//EN
CALSCALE:GREGORIAN
BEGIN:VEVENT
LOCATION: Sheraton Grand Sacramento 1230 J Street Sacramento CA 95814
DTSTART;TZID="US/Pacific":20261008T080000
DTEND;TZID="US/Pacific":20261008T163000
UID:69e7bc695e8ae
DTSTAMP:20260421T180529
DESCRIPTION:California Cybersecurity Education Summit 2026\nLocation:\nSheraton Grand Sacramento\n1230 J Street\nSacramento\, CA 95814\nCheck our website for the most up to date information for speakers and agenda: https://cms.erepublic.com/common/dynamic_modules/pass_through/144116\nQuestions? Contact us!\nTabbie Pegoda\nGovernment Technology\n916-932-1300 ext. 1411\ntpegoda@govtech.com\n
SUMMARY:California Cybersecurity Education Summit 2026
URL;VALUE=URI:https://cms.erepublic.com/common/dynamic_modules/pass_through/144116
X-ALT-DESC;FMTTYPE=text/html:<p>California Cybersecurity Education Summit 2026</p><p>Location:<br />Sheraton Grand Sacramento<br />1230 J Street<br />Sacramento, CA 95814</p><p>Check our website for the most up to date information for speakers and agenda: https://cms.erepublic.com/common/dynamic_modules/pass_through/144116</p><p>Questions? Contact us!<br />Tabbie Pegoda<br />Government Technology<br />916-932-1300 ext. 1411<br /><a href="mailto:tpegoda@govtech.com">tpegoda@govtech.com</a></p>
X-MICROSOFT-CDO-BUSYSTATUS:WORKINGELSEWHERE
X-MICROSOFT-CDO-IMPORTANCE:1
X-MICROSOFT-DISALLOW-COUNTER:FALSE
X-MS-OLK-AUTOFILLLOCATION:FALSE
X-MS-OLK-CONFTYPE:0
BEGIN:VALARM
TRIGGER:-PT15M
ACTION:DISPLAY
DESCRIPTION:Reminder
END:VALARM
END:VEVENT
END:VCALENDAR