BEGIN:VCALENDAR
VERSION:2.0
PRODID:-//hacksw/handcal//NONSGML v2.0//EN
CALSCALE:GREGORIAN
BEGIN:VEVENT
LOCATION: Boise Centre 850 W Front Street Boise ID 83702
DTSTART;TZID="US/Mountain":20260901T080000
DTEND;TZID="US/Mountain":20260901T163000
UID:69e88998dd5fe
DTSTAMP:20260422T084056
DESCRIPTION:Idaho Digital Government Summit 2026\nLocation:\nBoise Centre\n850 W Front Street\nBoise\, ID 83702\nCheck our website for the most up to date information for speakers and agenda: https://cms.erepublic.com/common/dynamic_modules/pass_through/144108\nQuestions? Contact us!\nIsabel McKee\nGovernment Technology\n916-932-1300 ext. 0722\nimckee@govtech.com\n
SUMMARY:Idaho Digital Government Summit 2026
URL;VALUE=URI:https://cms.erepublic.com/common/dynamic_modules/pass_through/144108
X-ALT-DESC;FMTTYPE=text/html:<p>Idaho Digital Government Summit 2026</p><p>Location:<br />Boise Centre<br />850 W Front Street<br />Boise, ID 83702</p><p>Check our website for the most up to date information for speakers and agenda: https://cms.erepublic.com/common/dynamic_modules/pass_through/144108</p><p>Questions? Contact us!<br />Isabel McKee<br />Government Technology<br />916-932-1300 ext. 0722<br />imckee@govtech.com</p>
X-MICROSOFT-CDO-BUSYSTATUS:WORKINGELSEWHERE
X-MICROSOFT-CDO-IMPORTANCE:1
X-MICROSOFT-DISALLOW-COUNTER:FALSE
X-MS-OLK-AUTOFILLLOCATION:FALSE
X-MS-OLK-CONFTYPE:0
BEGIN:VALARM
TRIGGER:-PT15M
ACTION:DISPLAY
DESCRIPTION:Reminder
END:VALARM
END:VEVENT
END:VCALENDAR