BEGIN:VCALENDAR
VERSION:2.0
PRODID:-//hacksw/handcal//NONSGML v2.0//EN
CALSCALE:GREGORIAN
BEGIN:VEVENT
LOCATION: Des Moines Marriott Downtown 700 Grand Ave Des Moines IA 50309
DTSTART;TZID="US/Central":20261006T080000
DTEND;TZID="US/Central":20261006T160000
UID:69ece4aac3093
DTSTAMP:20260425T155834
DESCRIPTION:Iowa Digital Government Summit 2026\nLocation:\nDes Moines Marriott Downtown\n700 Grand Ave\nDes Moines\, IA 50309\nCheck our website for the most up to date information for speakers and agenda: https://cms.erepublic.com/common/dynamic_modules/pass_through/144107\nQuestions? Contact us!\nAbigail Suiter\nGovernment Technology\n916-932-1405\nasuiter@erepublic.com &lt\;mailto:asuiter@erepublic.com&gt\;\n
SUMMARY:Iowa Digital Government Summit 2026
URL;VALUE=URI:https://cms.erepublic.com/common/dynamic_modules/pass_through/144107
X-ALT-DESC;FMTTYPE=text/html:<p>Iowa Digital Government Summit 2026</p><p>Location:<br />Des Moines Marriott Downtown<br />700 Grand Ave<br />Des Moines, IA 50309</p><p>Check our website for the most up to date information for speakers and agenda: https://cms.erepublic.com/common/dynamic_modules/pass_through/144107</p><p>Questions? Contact us!<br />Abigail Suiter<br />Government Technology<br />916-932-1405<br />asuiter@erepublic.com &lt;mailto:asuiter@erepublic.com&gt;</p>
X-MICROSOFT-CDO-BUSYSTATUS:WORKINGELSEWHERE
X-MICROSOFT-CDO-IMPORTANCE:1
X-MICROSOFT-DISALLOW-COUNTER:FALSE
X-MS-OLK-AUTOFILLLOCATION:FALSE
X-MS-OLK-CONFTYPE:0
BEGIN:VALARM
TRIGGER:-PT15M
ACTION:DISPLAY
DESCRIPTION:Reminder
END:VALARM
END:VEVENT
END:VCALENDAR