BEGIN:VCALENDAR
VERSION:2.0
PRODID:-//hacksw/handcal//NONSGML v2.0//EN
CALSCALE:GREGORIAN
BEGIN:VEVENT
LOCATION: The Westin Bonaventure Hotel and Suites\, Los Angeles 404 South Figueroa Street Los Angeles CA 90071
DTSTART;TZID="US/Pacific":20260728T080000
DTEND;TZID="US/Pacific":20260728T163000
UID:69e7a3ca95e3b
DTSTAMP:20260421T162026
DESCRIPTION:Los Angeles Digital Government Summit 2026\nLocation:\nThe Westin Bonaventure Hotel and Suites\, Los Angeles\n404 South Figueroa Street\nLos Angeles\, CA 90071\nCheck our website for the most up to date information for speakers and agenda: https://cms.erepublic.com/common/dynamic_modules/pass_through/144087\nQuestions? Contact us!\nLee Vang\nGovernment Technology\n916-932-1300 ext. 1407\nlvang@govtech.com\n
SUMMARY:Los Angeles Digital Government Summit 2026
URL;VALUE=URI:https://cms.erepublic.com/common/dynamic_modules/pass_through/144087
X-ALT-DESC;FMTTYPE=text/html:<p>Los Angeles Digital Government Summit 2026</p><p>Location:<br />The Westin Bonaventure Hotel and Suites, Los Angeles<br />404 South Figueroa Street<br />Los Angeles, CA 90071</p><p>Check our website for the most up to date information for speakers and agenda: https://cms.erepublic.com/common/dynamic_modules/pass_through/144087</p><p>Questions? Contact us!<br />Lee Vang<br />Government Technology<br />916-932-1300 ext. 1407<br /><a href="mailto:lvang@govtech.com">lvang@govtech.com</a>&nbsp;</p>
X-MICROSOFT-CDO-BUSYSTATUS:WORKINGELSEWHERE
X-MICROSOFT-CDO-IMPORTANCE:1
X-MICROSOFT-DISALLOW-COUNTER:FALSE
X-MS-OLK-AUTOFILLLOCATION:FALSE
X-MS-OLK-CONFTYPE:0
BEGIN:VALARM
TRIGGER:-PT15M
ACTION:DISPLAY
DESCRIPTION:Reminder
END:VALARM
END:VEVENT
END:VCALENDAR