BEGIN:VCALENDAR
VERSION:2.0
PRODID:-//hacksw/handcal//NONSGML v2.0//EN
CALSCALE:GREGORIAN
BEGIN:VEVENT
LOCATION: College Park Marriott Hotel & Conference Center 3501 University Blvd East Hyattsville MD 20783
DTSTART;TZID="US/Eastern":20260616T080000
DTEND;TZID="US/Eastern":20260616T163000
UID:69ea3fdf590fc
DTSTAMP:20260423T155055
DESCRIPTION:Maryland Digital Government Summit 2026\nLocation:\nCollege Park Marriott Hotel &amp\; Conference Center\n3501 University Blvd East\nHyattsville\, MD 20783\nCheck our website for the most up to date information for speakers and agenda: https://cms.erepublic.com/common/dynamic_modules/pass_through/144075\nQuestions? Contact us!\nSherri Tidwell\nGovernment Technology\n916-932-1300 ext. 1382\nstidwell@govtech.com &lt\;mailto:stidwell@govtech.com&gt\;\n
SUMMARY:Maryland Digital Government Summit 2026
URL;VALUE=URI:https://cms.erepublic.com/common/dynamic_modules/pass_through/144075
X-ALT-DESC;FMTTYPE=text/html:<p>Maryland Digital Government Summit 2026</p><p>Location:<br />College Park Marriott Hotel &amp; Conference Center<br />3501 University Blvd East<br />Hyattsville, MD 20783</p><p>Check our website for the most up to date information for speakers and agenda: https://cms.erepublic.com/common/dynamic_modules/pass_through/144075</p><p>Questions? Contact us!<br />Sherri Tidwell<br />Government Technology<br />916-932-1300 ext. 1382<br />stidwell@govtech.com &lt;mailto:stidwell@govtech.com&gt;</p>
X-MICROSOFT-CDO-BUSYSTATUS:WORKINGELSEWHERE
X-MICROSOFT-CDO-IMPORTANCE:1
X-MICROSOFT-DISALLOW-COUNTER:FALSE
X-MS-OLK-AUTOFILLLOCATION:FALSE
X-MS-OLK-CONFTYPE:0
BEGIN:VALARM
TRIGGER:-PT15M
ACTION:DISPLAY
DESCRIPTION:Reminder
END:VALARM
END:VEVENT
END:VCALENDAR