BEGIN:VCALENDAR
VERSION:2.0
PRODID:-//hacksw/handcal//NONSGML v2.0//EN
CALSCALE:GREGORIAN
BEGIN:VEVENT
LOCATION: Delta Hotels Helena Colonial 2301 Colonial Drive Helena MT 59601
DTSTART;TZID="US/Mountain":20260505T080000
DTEND;TZID="US/Mountain":20260505T163000
UID:69e8ce79edc03
DTSTAMP:20260422T133449
DESCRIPTION:Montana Digital Government Summit 2026\nLocation:\nDelta Hotels Helena Colonial\n2301 Colonial Drive\nHelena\, MT 59601\nCheck our website for the most up to date information for speakers and agenda: https://cms.erepublic.com/common/dynamic_modules/pass_through/144063\nQuestions? Contact us!\nAudrey Houser\nGovernment Technology\n916-932-1300 ext. 1420\nahouser@erepublic.com &lt\;mailto:ahouser@erepublic.com&gt\;\n
SUMMARY:Montana Digital Government Summit 2026
URL;VALUE=URI:https://cms.erepublic.com/common/dynamic_modules/pass_through/144063
X-ALT-DESC;FMTTYPE=text/html:<p>Montana Digital Government Summit 2026</p><p>Location:<br />Delta Hotels Helena Colonial<br />2301 Colonial Drive<br />Helena, MT 59601</p><p>Check our website for the most up to date information for speakers and agenda: https://cms.erepublic.com/common/dynamic_modules/pass_through/144063</p><p>Questions? Contact us!<br />Audrey Houser<br />Government Technology<br />916-932-1300 ext. 1420<br />ahouser@erepublic.com &lt;mailto:ahouser@erepublic.com&gt;</p>
X-MICROSOFT-CDO-BUSYSTATUS:WORKINGELSEWHERE
X-MICROSOFT-CDO-IMPORTANCE:1
X-MICROSOFT-DISALLOW-COUNTER:FALSE
X-MS-OLK-AUTOFILLLOCATION:FALSE
X-MS-OLK-CONFTYPE:0
BEGIN:VALARM
TRIGGER:-PT15M
ACTION:DISPLAY
DESCRIPTION:Reminder
END:VALARM
END:VEVENT
END:VCALENDAR