BEGIN:VCALENDAR
VERSION:2.0
PRODID:-//hacksw/handcal//NONSGML v2.0//EN
CALSCALE:GREGORIAN
BEGIN:VEVENT
LOCATION: Crowne Plaza Springfield - Convention Center 3000 South Dirksen Parkway Springfield IL 62703
DTSTART;TZID="US/Central":20260408T080000
DTEND;TZID="US/Central":20260408T163000
UID:69ea3f93323cb
DTSTAMP:20260423T154939
DESCRIPTION:Illinois Public Sector Cybersecurity Summit 2026\nLocation:\nCrowne Plaza Springfield - Convention Center\n3000 South Dirksen Parkway\nSpringfield\, IL 62703\nCheck our website for the most up to date information for speakers and agenda: https://cms.erepublic.com/common/dynamic_modules/pass_through/144054\nQuestions? Contact us!\nLindsay Anthis\nGovernment Technology\n916-932-1300 ext. 1495\nlanthis@erepublic.com &lt\;mailto:lanthis@erepublic.com&gt\;\n
SUMMARY:Illinois Public Sector Cybersecurity Summit 2026
URL;VALUE=URI:https://cms.erepublic.com/common/dynamic_modules/pass_through/144054
X-ALT-DESC;FMTTYPE=text/html:<p>Illinois Public Sector Cybersecurity Summit 2026</p><p>Location:<br />Crowne Plaza Springfield - Convention Center<br />3000 South Dirksen Parkway<br />Springfield, IL 62703</p><p>Check our website for the most up to date information for speakers and agenda: https://cms.erepublic.com/common/dynamic_modules/pass_through/144054</p><p>Questions? Contact us!<br />Lindsay Anthis<br />Government Technology<br />916-932-1300 ext. 1495<br />lanthis@erepublic.com &lt;mailto:lanthis@erepublic.com&gt;</p>
X-MICROSOFT-CDO-BUSYSTATUS:WORKINGELSEWHERE
X-MICROSOFT-CDO-IMPORTANCE:1
X-MICROSOFT-DISALLOW-COUNTER:FALSE
X-MS-OLK-AUTOFILLLOCATION:FALSE
X-MS-OLK-CONFTYPE:0
BEGIN:VALARM
TRIGGER:-PT15M
ACTION:DISPLAY
DESCRIPTION:Reminder
END:VALARM
END:VEVENT
END:VCALENDAR