BEGIN:VCALENDAR
VERSION:2.0
PRODID:-//hacksw/handcal//NONSGML v2.0//EN
CALSCALE:GREGORIAN
BEGIN:VEVENT
LOCATION: DCU Center 50 Foster St. Worcester MA 01608
DTSTART;TZID="US/Eastern":20251030T080000
DTEND;TZID="US/Eastern":20251030T170000
UID:69e5e7a684856
DTSTAMP:20260420T084526
DESCRIPTION:Massachusetts Public Sector Cybersecurity Summit 2025\nLocation:\nDCU Center\n50 Foster St.\nWorcester\, MA 01608\nCheck our website for the most up to date information for speakers and agenda: https://cms.erepublic.com/common/dynamic_modules/pass_through/143231\nQuestions? Contact us!\nAudrey Houser\nGovernment Technology\n(800) 940-6039 ext. 1420\nahouser@erepublic.com &lt\;mailto:ahouser@erepublic.com&gt\;\n
SUMMARY:Massachusetts Public Sector Cybersecurity Summit 2025
URL;VALUE=URI:https://cms.erepublic.com/common/dynamic_modules/pass_through/143231
X-ALT-DESC;FMTTYPE=text/html:<p>Massachusetts Public Sector Cybersecurity Summit 2025</p><p>Location:<br />DCU Center<br />50 Foster St.<br />Worcester, MA 01608</p><p>Check our website for the most up to date information for speakers and agenda: https://cms.erepublic.com/common/dynamic_modules/pass_through/143231</p><p>Questions? Contact us!<br />Audrey Houser<br />Government Technology<br />(800) 940-6039 ext. 1420<br />ahouser@erepublic.com &lt;mailto:ahouser@erepublic.com&gt;</p>
X-MICROSOFT-CDO-BUSYSTATUS:WORKINGELSEWHERE
X-MICROSOFT-CDO-IMPORTANCE:1
X-MICROSOFT-DISALLOW-COUNTER:FALSE
X-MS-OLK-AUTOFILLLOCATION:FALSE
X-MS-OLK-CONFTYPE:0
BEGIN:VALARM
TRIGGER:-PT15M
ACTION:DISPLAY
DESCRIPTION:Reminder
END:VALARM
END:VEVENT
END:VCALENDAR