BEGIN:VCALENDAR
VERSION:2.0
PRODID:-//hacksw/handcal//NONSGML v2.0//EN
CALSCALE:GREGORIAN
BEGIN:VEVENT
LOCATION: Crowne Plaza Executive Center 4728 Constitution Ave Baton Rouge LA 70808
DTSTART;TZID="US/Central":20250819T080000
DTEND;TZID="US/Central":20250819T163000
UID:69e90f2a92a48
DTSTAMP:20260422T181050
DESCRIPTION:Louisiana Digital Government Summit 2025\nLocation:\nCrowne Plaza Executive Center\n4728 Constitution Ave\nBaton Rouge\, LA 70808\nCheck our website for the most up to date information for speakers and agenda: https://cms.erepublic.com/common/dynamic_modules/pass_through/143178\nQuestions? Contact us!\nAudrey Houser\nGovernment Technology\n(800) 940-6039 ext. 1420\nahouser@erepublic.com &lt\;mailto:ahouser@erepublic.com&gt\;\n
SUMMARY:Louisiana Digital Government Summit 2025
URL;VALUE=URI:https://cms.erepublic.com/common/dynamic_modules/pass_through/143178
X-ALT-DESC;FMTTYPE=text/html:<p>Louisiana Digital Government Summit 2025</p><p>Location:<br />Crowne Plaza Executive Center<br />4728 Constitution Ave<br />Baton Rouge, LA 70808</p><p>Check our website for the most up to date information for speakers and agenda: https://cms.erepublic.com/common/dynamic_modules/pass_through/143178</p><p>Questions? Contact us!<br />Audrey Houser<br />Government Technology<br />(800) 940-6039 ext. 1420<br />ahouser@erepublic.com &lt;mailto:ahouser@erepublic.com&gt;</p>
X-MICROSOFT-CDO-BUSYSTATUS:WORKINGELSEWHERE
X-MICROSOFT-CDO-IMPORTANCE:1
X-MICROSOFT-DISALLOW-COUNTER:FALSE
X-MS-OLK-AUTOFILLLOCATION:FALSE
X-MS-OLK-CONFTYPE:0
BEGIN:VALARM
TRIGGER:-PT15M
ACTION:DISPLAY
DESCRIPTION:Reminder
END:VALARM
END:VEVENT
END:VCALENDAR