BEGIN:VCALENDAR
VERSION:2.0
PRODID:-//hacksw/handcal//NONSGML v2.0//EN
CALSCALE:GREGORIAN
BEGIN:VEVENT
LOCATION: Crowne Plaza Foster City 1221 Chess Drive Foster City CA 94404
DTSTART;TZID="US/Pacific":20231114T080000
DTEND;TZID="US/Pacific":20231114T163000
UID:69e56a9c206b7
DTSTAMP:20260419T235156
DESCRIPTION:State of GovTech 2023\nCrowne Plaza Foster City\n1221 Chess Drive\nFoster City\, CA 94404 \nwww.crowneplaza.com/sfo-peninsula\nCheck our website for the most up to date information for speakers and agenda: https://cms.erepublic.com/common/dynamic_modules/pass_through/141997\nQuestions? Contact us!\nLindsay Anthis\nGovernment Technology\n(800) 940-6039 ext. 1495\nlanthis@erepublic.com &lt\;mailto:lanthis@erepublic.com&gt\;\n
SUMMARY:State of GovTech 2023
URL;VALUE=URI:https://cms.erepublic.com/common/dynamic_modules/pass_through/141997
X-ALT-DESC;FMTTYPE=text/html:<p><strong>State of GovTech 2023</strong></p><p>Crowne Plaza Foster City<br />1221 Chess Drive<br />Foster City, CA 94404 <br />www.crowneplaza.com/sfo-peninsula</p><p>Check our website for the most up to date information for speakers and agenda: https://cms.erepublic.com/common/dynamic_modules/pass_through/141997</p><p>Questions? Contact us!<br />Lindsay Anthis<br />Government Technology<br />(800) 940-6039 ext. 1495<br />lanthis@erepublic.com &lt;mailto:lanthis@erepublic.com&gt;</p>
X-MICROSOFT-CDO-BUSYSTATUS:WORKINGELSEWHERE
X-MICROSOFT-CDO-IMPORTANCE:1
X-MICROSOFT-DISALLOW-COUNTER:FALSE
X-MS-OLK-AUTOFILLLOCATION:FALSE
X-MS-OLK-CONFTYPE:0
BEGIN:VALARM
TRIGGER:-PT15M
ACTION:DISPLAY
DESCRIPTION:Reminder
END:VALARM
END:VEVENT
END:VCALENDAR