BEGIN:VCALENDAR
VERSION:2.0
PRODID:-//hacksw/handcal//NONSGML v2.0//EN
CALSCALE:GREGORIAN
BEGIN:VEVENT
LOCATION: Sheraton Grand Sacramento Hotel 1230 J Street Sacramento CA 95814
DTSTART;TZID="US/Pacific":20230727T130000
DTEND;TZID="US/Pacific":20230727T173000
UID:69eb347879366
DTSTAMP:20260424T091432
DESCRIPTION:State of Technology - California Industry Forum 2023\n\nSheraton Grand Sacramento Hotel\n1230 J Street\nSacramento\, CA 95814 [venue_website]\n\nCheck our website for the most up to date information for speakers and agenda: https://cms.erepublic.com/common/dynamic_modules/pass_through/141572\n\nQuestions? Contact us!\nBradford Loebs\n\n(800) 940-6039 ext. 1409\nbloebs@erepublic.com &lt\;mailto:bloebs@erepublic.com&gt\;\n
SUMMARY:State of Technology - California Industry Forum 2023
URL;VALUE=URI:https://cms.erepublic.com/common/dynamic_modules/pass_through/141572
X-ALT-DESC;FMTTYPE=text/html:<p>State of Technology - California Industry Forum 2023</p><p>&nbsp;</p><p>Sheraton Grand Sacramento Hotel</p><p>1230 J Street</p><p>Sacramento, CA 95814 [venue_website]</p><p>&nbsp;</p><p>Check our website for the most up to date information for speakers and agenda: https://cms.erepublic.com/common/dynamic_modules/pass_through/141572</p><p>&nbsp;</p><p>Questions? Contact us!</p><p>Bradford Loebs</p><p>&nbsp;</p><p>(800) 940-6039 ext. 1409</p><p>bloebs@erepublic.com &lt;mailto:bloebs@erepublic.com&gt;</p>
X-MICROSOFT-CDO-BUSYSTATUS:WORKINGELSEWHERE
X-MICROSOFT-CDO-IMPORTANCE:1
X-MICROSOFT-DISALLOW-COUNTER:FALSE
X-MS-OLK-AUTOFILLLOCATION:FALSE
X-MS-OLK-CONFTYPE:0
BEGIN:VALARM
TRIGGER:-PT15M
ACTION:DISPLAY
DESCRIPTION:Reminder
END:VALARM
END:VEVENT
END:VCALENDAR