BEGIN:VCALENDAR
VERSION:2.0
PRODID:-//hacksw/handcal//NONSGML v2.0//EN
CALSCALE:GREGORIAN
BEGIN:VEVENT
LOCATION: Greater Richmond Convention Center 403 N 3rd Street Richmond VA 23219
DTSTART;TZID="US/Eastern":20230913T080000
DTEND;TZID="US/Eastern":20230913T164500
UID:69ec2029b7456
DTSTAMP:20260425T020009
DESCRIPTION:COVITS 2023\n\nGreater Richmond Convention Center\n403 N 3rd Street\nRichmond\, VA 23219 www.richmondcenter.com\n\nCheck our website for the most up to date information for speakers and agenda: https://cms.erepublic.com/common/dynamic_modules/pass_through/141417\n\nQuestions? Contact us!\nBradford Loebs\nGovernment Technology\n(800) 940-6039 ext. 1409\nbloebs@erepublic.com &lt\;mailto:bloebs@erepublic.com&gt\;\n
SUMMARY:COVITS 2023
URL;VALUE=URI:https://cms.erepublic.com/common/dynamic_modules/pass_through/141417
X-ALT-DESC;FMTTYPE=text/html:<p>COVITS 2023</p><p>&nbsp;</p><p>Greater Richmond Convention Center</p><p>403 N 3rd Street</p><p>Richmond, VA 23219 www.richmondcenter.com</p><p>&nbsp;</p><p>Check our website for the most up to date information for speakers and agenda: https://cms.erepublic.com/common/dynamic_modules/pass_through/141417</p><p>&nbsp;</p><p>Questions? Contact us!</p><p>Bradford Loebs</p><p>Government Technology</p><p>(800) 940-6039 ext. 1409</p><p>bloebs@erepublic.com &lt;mailto:bloebs@erepublic.com&gt;</p>
X-MICROSOFT-CDO-BUSYSTATUS:WORKINGELSEWHERE
X-MICROSOFT-CDO-IMPORTANCE:1
X-MICROSOFT-DISALLOW-COUNTER:FALSE
X-MS-OLK-AUTOFILLLOCATION:FALSE
X-MS-OLK-CONFTYPE:0
BEGIN:VALARM
TRIGGER:-PT15M
ACTION:DISPLAY
DESCRIPTION:Reminder
END:VALARM
END:VEVENT
END:VCALENDAR