BEGIN:VCALENDAR
VERSION:2.0
PRODID:-//hacksw/handcal//NONSGML v2.0//EN
CALSCALE:GREGORIAN
BEGIN:VEVENT
LOCATION:    AZ 
DTSTART;TZID="US/Mountain no DST":20210608T083000
DTEND;TZID="US/Mountain no DST":20210608T160000
UID:69ea408829962
DTSTAMP:20260423T155344
DESCRIPTION:Arizona Virtual Digital Government Summit 2021\n\n\nCheck our website for the most up to date information for speakers and agenda:\nhttps://cms.erepublic.com/common/dynamic_modules/pass_through/134699\n\nQuestions? Contact us!\nBrittany Roberts\nGovernment Technology\n(800) 940-6039 ext. 1388\nbroberts@govtech.com\n
SUMMARY:Arizona Virtual Digital Government Summit 2021
URL;VALUE=URI:https://cms.erepublic.com/common/dynamic_modules/pass_through/134699
X-ALT-DESC;FMTTYPE=text/html:<p>Arizona Virtual Digital Government Summit 2021<br /><br /></p><p>Check our website for the most up to date information for speakers and agenda:</p><p>https://cms.erepublic.com/common/dynamic_modules/pass_through/134699</p><p>&nbsp;</p><p>Questions? Contact us!</p><p>Brittany Roberts</p><p>Government Technology</p><p>(800) 940-6039 ext. 1388</p><p><a href="mailto:broberts@govtech.com">broberts@govtech.com</a></p>
X-MICROSOFT-CDO-BUSYSTATUS:WORKINGELSEWHERE
X-MICROSOFT-CDO-IMPORTANCE:1
X-MICROSOFT-DISALLOW-COUNTER:FALSE
X-MS-OLK-AUTOFILLLOCATION:FALSE
X-MS-OLK-CONFTYPE:0
BEGIN:VALARM
TRIGGER:-PT15M
ACTION:DISPLAY
DESCRIPTION:Reminder
END:VALARM
END:VEVENT
END:VCALENDAR