BEGIN:VCALENDAR
VERSION:2.0
PRODID:-//hacksw/handcal//NONSGML v2.0//EN
CALSCALE:GREGORIAN
BEGIN:VEVENT
LOCATION: Salem Convention Center 200 Commercial Street SE Salem OR 97301
DTSTART;TZID="US/Pacific":20190620T080000
DTEND;TZID="US/Pacific":20190620T170000
UID:69e90c106d3ff
DTSTAMP:20260422T175736
DESCRIPTION:Oregon Digital Government Summit 2019\n\nSalem Convention Center\n200 Commercial Street SE\nSalem\, OR 97301\n\nCheck our website for the most up to date information for speakers and agenda:\nhttp://cms.erepublic.com/common/dynamic_modules/pass_through/104847\n\nQuestions? Contact us! \nNahira Stanackzai \n(800) 940-6039 ext. 1327 \nnstanackzai@govtech.com\n
SUMMARY:Oregon Digital Government Summit 2019
URL;VALUE=URI:https://cms.erepublic.com/common/dynamic_modules/pass_through/104847
X-ALT-DESC;FMTTYPE=text/html:<p>Oregon Digital Government Summit 2019<br /><br />Salem Convention Center<br />200 Commercial Street SE<br />Salem, OR 97301<br /><br />Check our website for the most up to date information for speakers and agenda:<br />http://cms.erepublic.com/common/dynamic_modules/pass_through/104847<br /><br />Questions? Contact us! <br />Nahira Stanackzai <br />(800) 940-6039 ext. 1327 <br />nstanackzai@govtech.com</p>
X-MICROSOFT-CDO-BUSYSTATUS:WORKINGELSEWHERE
X-MICROSOFT-CDO-IMPORTANCE:1
X-MICROSOFT-DISALLOW-COUNTER:FALSE
X-MS-OLK-AUTOFILLLOCATION:FALSE
X-MS-OLK-CONFTYPE:0
BEGIN:VALARM
TRIGGER:-PT15M
ACTION:DISPLAY
DESCRIPTION:Reminder
END:VALARM
END:VEVENT
END:VCALENDAR